BEGIN:VCALENDAR
VERSION:2.0
PRODID:-//MSFDN - ECPv6.2.9//NONSGML v1.0//EN
CALSCALE:GREGORIAN
METHOD:PUBLISH
X-WR-CALNAME:MSFDN
X-ORIGINAL-URL:https://msfdnofficial.com
X-WR-CALDESC:Events for MSFDN
REFRESH-INTERVAL;VALUE=DURATION:PT1H
X-Robots-Tag:noindex
X-PUBLISHED-TTL:PT1H
BEGIN:VTIMEZONE
TZID:UTC
BEGIN:STANDARD
TZOFFSETFROM:+0000
TZOFFSETTO:+0000
TZNAME:UTC
DTSTART:20240101T000000
END:STANDARD
END:VTIMEZONE
BEGIN:VEVENT
DTSTART;TZID=UTC:20240126T080000
DTEND;TZID=UTC:20240130T170000
DTSTAMP:20260420T071833
CREATED:20240112T105922Z
LAST-MODIFIED:20240112T113519Z
UID:10000002-1706256000-1706634000@msfdnofficial.com
SUMMARY:Carnivale Di Venezia
DESCRIPTION:I’ve been traveling around Italy chasing festivals for a couple of years\, and Venice Carnival is one of my all-time favorites. During the day\, it’s fun to wander around the ancient streets of the city surrounded by people in 18th-century costumes – you’ll feel as if you’ve jumped straight into Eyes Wide Shut. Just make sure you try and get away from the busy streets around San Marco Square – the Cannaregio and Dorsoduro areas offer great choices to party with locals\, especially at night when most day-trippers leave.
URL:https://msfdnofficial.com/event/carnivale-di-venezia/
LOCATION:Egyptian Theatre\, Park City\, UT United States\, VA\, VA\, 211323\, United Kingdom
ATTACH;FMTTYPE=image/jpeg:https://msfdnofficial.com/wp-content/uploads/2024/01/venice-carnival-1.jpg
ORGANIZER;CN="MSFDN":MAILTO:events@msfdn.com
END:VEVENT
BEGIN:VEVENT
DTSTART;TZID=UTC:20240112T080000
DTEND;TZID=UTC:20240118T170000
DTSTAMP:20260420T071833
CREATED:20240112T105751Z
LAST-MODIFIED:20240112T112316Z
UID:10000001-1705046400-1705597200@msfdnofficial.com
SUMMARY:Sundance Film Festival
DESCRIPTION:Sundance is North America’s most famous independent film festival\, appealing to the non-conformist and rebellious film directors who do not want to play by Hollywood’s rules. Located in a relatively small town\, first-time attendees may be surprised by the lack of glamour of where the films are shown\, but there is a certain buzz about sitting in an old theater watching a mold-bursting indie film sat besides an actor about to hit super-stardom. If you love edgy\, powerful films\, Sundance may be just what you are looking for.
URL:https://msfdnofficial.com/event/sundance-film-festival/
LOCATION:Egyptian Theatre\, Park City\, UT United States\, VA\, VA\, 211323\, United Kingdom
ORGANIZER;CN="MSFDN":MAILTO:events@msfdn.com
END:VEVENT
END:VCALENDAR